BEGIN:VCALENDAR
VERSION:2.0
PRODID:-//wp-events-plugin.com//7.2.3.1//EN
TZID:Europe/Vienna
X-WR-TIMEZONE:Europe/Vienna
BEGIN:VEVENT
UID:135@judopool.at
DTSTART;TZID=Europe/Vienna:20260227T150000
DTEND;TZID=Europe/Vienna:20260626T160000
DTSTAMP:20260122T131804Z
URL:https://judopool.at/events/anfaengerkurs-gabersdorf-2/
SUMMARY:Anfängerkurs Gabersdorf
DESCRIPTION:Wir laden euch herzlich ein\, an unserem Anfängerkurs in Gaber
 sdorf teilzunehmen!\n\nWenn es euch gefallen hat\,  bringt bitte das An
 meldeformular  =Bestätigungsmail welches Ihr  vom Judopool erhaltet   
 unterschrieben mit und gebt es nach der ersten Judostunde beim TrainerIn 
 ab.
ATTACH;FMTTYPE=image/jpeg:https://judopool.at/wp-content/uploads/2015/11/H
 alle-Gabersdorf01.jpg
CATEGORIES:Anfängerkurs
LOCATION:Gabersdorf (Mehrzweckhalle)\, Mehrzweckhalle Gabersdorf\, Gabersdo
 rf\, Steiermark\, 8424\, Österreich
GEO:46.790582;15.593482
X-APPLE-STRUCTURED-LOCATION;VALUE=URI;X-ADDRESS=Mehrzweckhalle Gabersdorf\,
  Gabersdorf\, Steiermark\, 8424\, Österreich;X-APPLE-RADIUS=100;X-TITLE=G
 abersdorf (Mehrzweckhalle):geo:46.790582,15.593482
END:VEVENT
BEGIN:VTIMEZONE
TZID:Europe/Vienna
X-LIC-LOCATION:Europe/Vienna
BEGIN:STANDARD
DTSTART:20251026T020000
TZOFFSETFROM:+0200
TZOFFSETTO:+0100
TZNAME:CET
END:STANDARD
BEGIN:DAYLIGHT
DTSTART:20260329T030000
TZOFFSETFROM:+0100
TZOFFSETTO:+0200
TZNAME:CEST
END:DAYLIGHT
END:VTIMEZONE
END:VCALENDAR