BEGIN:VCALENDAR
VERSION:2.0
PRODID:-//wp-events-plugin.com//7.2.3.1//EN
TZID:Europe/Vienna
X-WR-TIMEZONE:Europe/Vienna
BEGIN:VEVENT
UID:155@judopool.at
DTSTART;TZID=Europe/Vienna:20250311T183000
DTEND;TZID=Europe/Vienna:20250624T193000
DTSTAMP:20250125T122424Z
URL:https://judopool.at/events/anfaengerkurs-st-peter-waldorfschule-jugend
 liche-u-erwachsene-2/
SUMMARY:Anfängerkurs St. Peter Waldorfschule Jugendliche u. Erwachsene
DESCRIPTION:Wir laden euch herzlich ein\, am Dienstag in St. Peter (Turnsaa
 l der freien Waldorfschule)\n\nam Anfängerkurs teilzunehmen!\n\nWenn es e
 uch gefallen hat\,  bringt bitte das Anmeldeformular  =Bestätigungsmai
 l welches Ihr  vom Judopool erhaltet   unterschrieben mit und gebt es 
 nach der ersten Judostunde beim TrainerIn ab.
ATTACH;FMTTYPE=image/jpeg:https://judopool.at/wp-content/uploads/2013/08/w
 aldorfschule.jpg
CATEGORIES:Anfängerkurs
LOCATION:St. Peter (Waldorfschule)\, St. Peter Hauptstraße 182\, Graz\, St
 eiermark\, 8042\, Österreich
GEO:47.0472943;15.483614799999941
X-APPLE-STRUCTURED-LOCATION;VALUE=URI;X-ADDRESS=St. Peter Hauptstraße 182\
 , Graz\, Steiermark\, 8042\, Österreich;X-APPLE-RADIUS=100;X-TITLE=St. Pe
 ter (Waldorfschule):geo:47.0472943,15.483614799999941
END:VEVENT
BEGIN:VTIMEZONE
TZID:Europe/Vienna
X-LIC-LOCATION:Europe/Vienna
BEGIN:STANDARD
DTSTART:20241027T020000
TZOFFSETFROM:+0200
TZOFFSETTO:+0100
TZNAME:CET
END:STANDARD
BEGIN:DAYLIGHT
DTSTART:20250330T030000
TZOFFSETFROM:+0100
TZOFFSETTO:+0200
TZNAME:CEST
END:DAYLIGHT
END:VTIMEZONE
END:VCALENDAR