BEGIN:VCALENDAR
VERSION:2.0
PRODID:-//wp-events-plugin.com//7.2.3.1//EN
TZID:Europe/Vienna
X-WR-TIMEZONE:Europe/Vienna
BEGIN:VEVENT
UID:1@judopool.at
DTSTART;TZID=Europe/Vienna:20200305T160000
DTEND;TZID=Europe/Vienna:20200625T170000
DTSTAMP:20200114T164707Z
URL:https://judopool.at/events/anfaengerkurs-weinitzen-donnerstag/
SUMMARY:Anfängerkurs Weinitzen Donnerstag
DESCRIPTION:Wir laden euch herzlich ein am Donnerstag im Turnsaal des Kind
 ergarten Weinitzen am Anfängerkurs teilzunehmen!\n\nBitte bringt das Anm
 eldeformular unterschrieben (Beitrittserklärung) =Bestätigungsmail welch
 es Ihr  vom Judopool erhaltet   gleich mit und gebt es vor der Stunde b
 eim Trainer ab.
ATTACH;FMTTYPE=image/jpeg:https://judopool.at/wp-content/uploads/2013/08/W
 einitzen_Kindergarten.jpg
CATEGORIES:Anfängerkurs
LOCATION:Weinitzen (Turnsaal Kindergarten)\, Niederschöcklstraße 44\, Wei
 nitzen\, Steiermark\, 8044\, Österreich
GEO:47.1419919;15.497494800000027
X-APPLE-STRUCTURED-LOCATION;VALUE=URI;X-ADDRESS=Niederschöcklstraße 44\, 
 Weinitzen\, Steiermark\, 8044\, Österreich;X-APPLE-RADIUS=100;X-TITLE=Wei
 nitzen (Turnsaal Kindergarten):geo:47.1419919,15.497494800000027
END:VEVENT
BEGIN:VTIMEZONE
TZID:Europe/Vienna
X-LIC-LOCATION:Europe/Vienna
BEGIN:STANDARD
DTSTART:20191027T020000
TZOFFSETFROM:+0200
TZOFFSETTO:+0100
TZNAME:CET
END:STANDARD
BEGIN:DAYLIGHT
DTSTART:20200329T030000
TZOFFSETFROM:+0100
TZOFFSETTO:+0200
TZNAME:CEST
END:DAYLIGHT
END:VTIMEZONE
END:VCALENDAR